BEGIN:VCALENDAR
VERSION:2.0
BEGIN:VEVENT
UID:F7B56CD2-CE03-444B-866C-A7245A33E40B
DTSTART:20220312T110000Z
DTEND:20220313T160000Z
SUMMARY:Open House Sat & Sun - 7703 Kalebs Pond Court
DESCRIPTION:Custom home with a stunning lakefront view offers a private & t
 ranquil outdoor setting enjoyed all year long. This beauty is built & desi
 gned by Tom Cox\, a renowned Woodlands builder. 1.5 story home highlights
  high-end finishes & details like a beamed/vaulted ceiling\, full entertai
 ning bar\, 1st-floor game/media\, surround sound\, gourmet kitchen w/Therm
 ador stainless steel appliances\, Quartzite counters & oversized island/ba
 r seating. 3 en-suite bedrooms down! The formal dining flows into an expan
 sive den\, a gracious master suite and bath offer the ultimate in relaxati
 on w/access to a private patio. The second floor is home to spacious flex
  space\, 2 large bedrooms w/balcony access & en-suite baths. Gorgeous lake
  views throughout! Inviting & well-thought outdoor entertaining - summer k
 itchen\, fireplace\, pool/spa. Fantastic neighborhood amenities\; minutes
  from Creekside and The Woodlands shopping\, dining\; and acclaimed KISD (
 International Baccalaureate Program) and John Cooper schools. \n Virtual T
 our \n For More Information
LOCATION:7703 Kalebs Pond Court\, Spring\, TX 77389
URL:http://sites.bubblelife.com/community/the_kink_team/library/35896671/ke
 y/3511195733/Open_House_Sat_Sun_-_7703_Kalebs_Pond_Court
CREATED:20220311T025352Z
LAST-MODIFIED:20220311T025352Z
DTSTAMP:20260424T215419Z
CLASS:PUBLIC
STATUS:CONFIRMED
TRANSP:TRANSPARENT
SEQUENCE:1
END:VEVENT
END:VCALENDAR
